BEGIN:VCALENDAR
VERSION:2.0
PRODID:-//Rebels Of Change - ECPv6.3.3.1//NONSGML v1.0//EN
CALSCALE:GREGORIAN
METHOD:PUBLISH
X-WR-CALNAME:Rebels Of Change
X-ORIGINAL-URL:https://www.rebels-of-change.org
X-WR-CALDESC:Events for Rebels Of Change
REFRESH-INTERVAL;VALUE=DURATION:PT1H
X-Robots-Tag:noindex
X-PUBLISHED-TTL:PT1H
BEGIN:VTIMEZONE
TZID:Europe/Vienna
BEGIN:DAYLIGHT
TZOFFSETFROM:+0100
TZOFFSETTO:+0200
TZNAME:CEST
DTSTART:20220327T010000
END:DAYLIGHT
BEGIN:STANDARD
TZOFFSETFROM:+0200
TZOFFSETTO:+0100
TZNAME:CET
DTSTART:20221030T010000
END:STANDARD
END:VTIMEZONE
BEGIN:VEVENT
DTSTART;VALUE=DATE:20220817
DTEND;VALUE=DATE:20220821
DTSTAMP:20260425T235052
CREATED:20220825T140856Z
LAST-MODIFIED:20220825T140921Z
UID:312-1660694400-1661039999@www.rebels-of-change.org
SUMMARY:fairplay Camp
DESCRIPTION:Du bist zwischen 16 und 20 Jahren und interessierst Dich für Sport\, Fußball und die Themen Vielfalt\, Menschenrechte und soziale Inklusion? Du kannst dir vorstellen\, in Zukunft mit Kindern und Jugendlichen zu arbeiten und bei Sportcamps oder Workshops aktiv mitzuwirken? Dann ist das fairplay Camp eine gute Gelegenheit für dich. Hier lernst du mehr über die SDGs (Sustainable Development Goals) und was Sport mit nachhaltiger Entwicklung zu tun hat.  \nWeitere Infos hier https://www.fairplay.or.at/news/news/aufruf-zur-teilnahme-beim-fairplay-camp  \nBei den fairplay SDG-Tourstationen können Kinder und Jugendliche über das ganze Jahr hinweg den Streetkick-Court ausprobieren und gleichzeitig etwas über die SDGs erfahren: https://www.fairplay.or.at/service/sdg-tour
URL:https://www.rebels-of-change.org/event/312/
LOCATION:Ferlach/Kärnten
ATTACH;FMTTYPE=image/jpeg:https://www.rebels-of-change.org/wp-content/uploads/2022/08/Bild-fairplay-Camp.jpg
END:VEVENT
BEGIN:VEVENT
DTSTART;TZID=Europe/Vienna:20220702T100000
DTEND;TZID=Europe/Vienna:20220702T170000
DTSTAMP:20260425T235052
CREATED:20220825T140751Z
LAST-MODIFIED:20220825T140751Z
UID:309-1656756000-1656781200@www.rebels-of-change.org
SUMMARY:SDG-Wanderung „Nachhaltigkeit durch Windenergie“
DESCRIPTION:Bezahlbare und saubere Energie für alle \nSamstag\, 2. Juli um 10 Uhr\, Treffpunkt Parkplatz Bärenkogel bei Mürzzuschlag \nDer Zugang zu bezahlbarer\, verlässlicher und nachhaltiger Energie ist in diesen Tagen von besonderer Bedeutung. Wo soll diese Energie produziert werden? Wie schafft man es\, Energie möglichst lokal zu produzieren und den Konsument*innen zur Verfügung zu stellen?  \nDie Wanderung gibt dir Einblicke in das Wechselspiel von ökologischen und ökonomischen Ansprüchen an die Natur und wie versucht wird\, nachhaltige Lösungen für unterschiedliche Ansprüche zu erarbeiten. Die Österreichischen Bundesforste (ÖBf) werden uns auf dieser Tour durch den Windpark Pretul begleiten und uns Infos aus erster Hand geben. \nAnschließend wandern wir weiter in ein Rebhuhnschutzgebiet\, um Einblicke in das Ökosystem und die Lebensweise der Tiere zu erhalten. Ausklang ist ein gemeinsames Mittagessen im Roseggerhaus auf der Pretul mit einer Lesung aus heiteren Texten von Peter Rosegger. Vorgetragen werden die Texte vom Roseggerbund Krieglach.
URL:https://www.rebels-of-change.org/event/sdg-wanderung-nachhaltigkeit-durch-windenergie/
LOCATION:Mürzzuschlag
ATTACH;FMTTYPE=image/jpeg:https://www.rebels-of-change.org/wp-content/uploads/2022/08/SDG-Wanderungen-Foto.jpg
END:VEVENT
BEGIN:VEVENT
DTSTART;TZID=Europe/Vienna:20220625T093000
DTEND;TZID=Europe/Vienna:20220625T170000
DTSTAMP:20260425T235052
CREATED:20220825T140449Z
LAST-MODIFIED:20220825T140449Z
UID:306-1656149400-1656176400@www.rebels-of-change.org
SUMMARY:SDG-Wanderung „Senegal meets Graz“
DESCRIPTION:Ein Urban Hike durch Graz zu SDG2 „Kein Hunger“ und SDG12 „Nachhaltiger Konsum und Produktion“ mit den senegalesischen Expert*innen Neoella Thiaw und Amady Sow \nWie ernährt man sich in Graz? Wie im Senegal? Wir besuchen auf unserem Urban Hike in Graz das frisch umgezogene “Das Dekagramm” und erfahren dort\, wie ein Zero Waste-Alltag aussehen kann. Im Anschluss spazieren wir für ein gemeinsames Frühstück in’s Paulschlössel – Caritas ReUse Café\, wo wir erfahren\, warum wir dort mit Kaffee trinken etwas Gutes tun können. Auch die Fair-Teiler in Graz lassen wir nicht aus\, die Lebensmittelwertschätzung wieder ins Bewusstsein rufen. Das besondere Highlight: Wir haben mit Neoella Thiaw und Amady Sow zwei Expert*innen im Gepäck\, die aus erster Hand über die Ernährungssituation und solidarischen Projekten im Senegal berichten werden.
URL:https://www.rebels-of-change.org/event/sdg-wanderung-senegal-meets-graz/
LOCATION:Graz
ATTACH;FMTTYPE=image/jpeg:https://www.rebels-of-change.org/wp-content/uploads/2022/08/SDG-Wanderungen-Foto.jpg
END:VEVENT
END:VCALENDAR