BEGIN:VCALENDAR
VERSION:2.0
PRODID:-//Rebels Of Change - ECPv6.3.3.1//NONSGML v1.0//EN
CALSCALE:GREGORIAN
METHOD:PUBLISH
X-WR-CALNAME:Rebels Of Change
X-ORIGINAL-URL:https://www.rebels-of-change.org
X-WR-CALDESC:Events for Rebels Of Change
REFRESH-INTERVAL;VALUE=DURATION:PT1H
X-Robots-Tag:noindex
X-PUBLISHED-TTL:PT1H
BEGIN:VTIMEZONE
TZID:Europe/Vienna
BEGIN:DAYLIGHT
TZOFFSETFROM:+0100
TZOFFSETTO:+0200
TZNAME:CEST
DTSTART:20240331T010000
END:DAYLIGHT
BEGIN:STANDARD
TZOFFSETFROM:+0200
TZOFFSETTO:+0100
TZNAME:CET
DTSTART:20241027T010000
END:STANDARD
END:VTIMEZONE
BEGIN:VEVENT
DTSTART;VALUE=DATE:20241113
DTEND;VALUE=DATE:20241114
DTSTAMP:20260423T203221
CREATED:20241108T111004Z
LAST-MODIFIED:20241209T111149Z
UID:1854-1731456000-1731542399@www.rebels-of-change.org
SUMMARY:SDG Dialogforum Kärnten
DESCRIPTION:Was braucht es\, um eine lebenswerte Zukunft in einer gesunden Umwelt zu schaffen? Wie kann Nachhaltigkeitspolitik verschiedenste Lebensrealitäten berücksichtigen und den Anliegen junger Menschen gerecht werden? Wie können Gemeinden und Städte einen Beitrag zur Lösung globaler Herausforderungen leisten? \nDas Land Kärnten sowie SDG Watch Austria laden am 13. November 2024 dazu ein\, im BIOS Nationalparkzentrum Mallnitz gemeinsam über diese und weitere Fragen zu diskutieren. In Anlehnung an die Reihe der SDG Dialogforen auf Bundesebene soll der direkte Austausch zwischen Politik\, Verwaltung\, Wissenschaft\, Wirtschaft sowie Zivilgesellschaft ermöglicht werden. Dabei soll insbesondere Raum für die Stimmen junger Menschen sowie für globale Perspektiven geschaffen werden. \nYouth Sounding Board zum SDG Dialogforum Kärnten\nJunge Menschen zwischen 14 und 24 Jahren haben die Möglichkeit\, diese Veranstaltung mitzugestalten. Denn das SDG Dialogforum Kärnten sollte insbesondere auch die Stimmen junger Menschen stärker in den Vordergrund stellen.\nWas braucht es\, um eine gute Zukunft zu schaffen? Auf welche Themen sollte die Politik noch stärker achten? Ist das Programm des SDG Dialogforums für euch verständlich\, interessant? Diese Fragen behandeln wir gemeinsam mit Jugendlichen und jungen Erwachsenen aus Wien und Kärnten im Vorfeld des Events.
URL:https://www.rebels-of-change.org/event/sdg-dialogforum-karnten/
ATTACH;FMTTYPE=image/png:https://www.rebels-of-change.org/wp-content/uploads/2024/12/einladung_sdgdf_ausschnitt_logos.png__826.0x742.0_subject_location-415342_subsampling-2.png
END:VEVENT
BEGIN:VEVENT
DTSTART;TZID=Europe/Vienna:20241117T170000
DTEND;TZID=Europe/Vienna:20241117T190000
DTSTAMP:20260423T203221
CREATED:20241113T133844Z
LAST-MODIFIED:20241213T134148Z
UID:1915-1731862800-1731870000@www.rebels-of-change.org
SUMMARY:Filmvorführung „Generation Change“ beim European Arthouse Cinema Day
DESCRIPTION:Das Geidorf Kunstkino zeigt am 17. November um 17:00 Uhr im Rahmen des diesjährigen European Arthouse Cinema Day den Südwind -Film GENERATION CHANGE – Wer rettet die Welt?\nbei freiem Eintritt! Kommt und lasst euch vom Südwind Railmovie inspirieren!
URL:https://www.rebels-of-change.org/event/filmvorfuhrung-generation-change-beim-european-arthouse-cinema-day/
LOCATION:Geidorf Kunstkino\, Geidorfplatz1\, Graz
ATTACH;FMTTYPE=image/png:https://www.rebels-of-change.org/wp-content/uploads/2024/11/Screenshot-2024-12-13-at-14-41-11-Generation-Change.png
END:VEVENT
BEGIN:VEVENT
DTSTART;TZID=Europe/Vienna:20241203T090000
DTEND;TZID=Europe/Vienna:20241203T120000
DTSTAMP:20260423T203221
CREATED:20241211T110713Z
LAST-MODIFIED:20241211T110713Z
UID:1883-1733216400-1733227200@www.rebels-of-change.org
SUMMARY:Living Library: Die SDGs im Dialog
DESCRIPTION:Eine Living Library Veranstaltung für Schüler_innen (14-19 Jahre)\, organisiert von der C3-Bibliothek für Entwicklungspolitik. In persönlichen Gesprächen sprechen wir über Möglichkeiten und Ideen\, unsere Zukunft nachhaltig und gerecht zu gestalten. Die Veranstaltung richtet sich an Schulen (Schulstufe Sek.II). An der Veranstaltung können insgesamt 2-3 Schulkassen teilnehmen. Aufgrund der begrenzten Plätze ersuchen wir um rasche Anmeldung. \nMitreden\, mitgestalten\, mitbestimmen\nArmutsbekämpfung\, gute Bildung für alle\, Umweltschutz\, Geschlechtergerechtigkeit oder nachhaltige Städte: In 17 Zielen haben die Vereinten Nationen einen Kompass festgelegt\, mit dem unsere Welt bis 2030 nachhaltig und gerecht werden soll. Dafür braucht es nicht nur politische Maßnahmen\, sondern das Engagement vieler verschiedener Menschen auf unterschiedlichen Ebenen. \nIn der Living Library wollen wir daher folgenden Fragen auf den Grund gehen: \n\nIn welchen Lebensbereichen begegnen wir den SDGs?\nWelche Zusammenhänge oder auch Widersprüche gibt es zwischen den einzelnen SDGs?\nWer setzt sich wie für welche der 17 Ziele ein – und was kann ich dazu beitragen?\nWie gelingt die Umsetzung der Agenda 2030 und der SDGs in die Praxis?\nUnd welche politischen Maßnahmen braucht es dafür?\n\nIn dieser Living Library kannst du dich im persönlichen Gespräch mit Expert:innen\, etwa aus Politik\, Wissenschaft und Zivilgesellschaft\, über Erfahrungen und Positionen austauschen und dabei gemeinsam über die Umsetzung der SDGs bis 2030 nachdenken sowie eigene Ideen und konkrete Handlungsvorschläge zur Erreichung der 17 Ziele entwickeln.
URL:https://www.rebels-of-change.org/event/living-library-die-sdgs-im-dialog/
LOCATION:C3-Bibliothek für Entwicklungspolitik\, Sensengasse 3\, 1090 Wien
ATTACH;FMTTYPE=image/png:https://www.rebels-of-change.org/wp-content/uploads/2024/12/sharepic-031224.png
END:VEVENT
END:VCALENDAR