BEGIN:VCALENDAR
VERSION:2.0
PRODID:-//Rebels Of Change - ECPv6.3.3.1//NONSGML v1.0//EN
CALSCALE:GREGORIAN
METHOD:PUBLISH
X-ORIGINAL-URL:https://www.rebels-of-change.org
X-WR-CALDESC:Events for Rebels Of Change
REFRESH-INTERVAL;VALUE=DURATION:PT1H
X-Robots-Tag:noindex
X-PUBLISHED-TTL:PT1H
BEGIN:VTIMEZONE
TZID:Europe/Vienna
BEGIN:DAYLIGHT
TZOFFSETFROM:+0100
TZOFFSETTO:+0200
TZNAME:CEST
DTSTART:20230326T010000
END:DAYLIGHT
BEGIN:STANDARD
TZOFFSETFROM:+0200
TZOFFSETTO:+0100
TZNAME:CET
DTSTART:20231029T010000
END:STANDARD
END:VTIMEZONE
BEGIN:VEVENT
DTSTART;VALUE=DATE:20230923
DTEND;VALUE=DATE:20230924
DTSTAMP:20260423T182634
CREATED:20230705T061917Z
LAST-MODIFIED:20230705T061917Z
UID:1339-1695427200-1695513599@www.rebels-of-change.org
SUMMARY:Tag des Sports
DESCRIPTION:Österreichs größte Open-Air-Sportveranstaltung geht im September 2023 in ihr 22. Jahr. Freu dich auf einen tollen Tag mit ganz viel Sport\, Action und persönlicher Interaktion am größten Sportplatz Europas. Zudem gibt es wieder ein Gewinnspiel mit sportlichen Preisen im Wert von mehr als 20.000 Euro. \nWann: 23. September 2023 \nWo: Stadium Parkring\, Pierre-de-Coubertin-Platz\, 1020 Wien \nAlle Informationen unter https://www.tagdessports.at/
URL:https://www.rebels-of-change.org/event/tag-des-sports/
LOCATION:Stadium Parkring\, Pierre-de-Coubertin-Platz\, Wien\, 1020\, Austria
ATTACH;FMTTYPE=image/jpeg:https://www.rebels-of-change.org/wp-content/uploads/2023/07/Tag-des-Sports.jpg
END:VEVENT
END:VCALENDAR